BEGIN:VCALENDAR
VERSION:2.0
PRODID:-//pretix//pretix.eu//
BEGIN:VTIMEZONE
TZID:Europe/Berlin
BEGIN:STANDARD
DTSTART:20001029T040000
RRULE:FREQ=YEARLY;BYDAY=-1SU;BYMONTH=10
TZNAME:CET
TZOFFSETFROM:+0200
TZOFFSETTO:+0100
END:STANDARD
BEGIN:DAYLIGHT
DTSTART:20000326T030000
RRULE:FREQ=YEARLY;BYDAY=-1SU;BYMONTH=3
TZNAME:CEST
TZOFFSETFROM:+0100
TZOFFSETTO:+0200
END:DAYLIGHT
END:VTIMEZONE
BEGIN:VEVENT
UID:pretix-zlb-mausritter-0@reservierung.zlb.de
DTSTART;TZID=Europe/Berlin:20260412T140000
DTEND;TZID=Europe/Berlin:20260412T153000
DESCRIPTION:Tickets: https://reservierung.zlb.de/mausritter/\nVeranstalter:
  Zentral- und Landesbibliothek Berlin
DTSTAMP:20260423T075732Z
LOCATION:Amerika-Gedenkbibliothek (AGB)\, Blücherplatz 1\, 10961 Berlin
SUMMARY:Pen & Paper "Mausritter"
END:VEVENT
END:VCALENDAR
